BEGIN:VCALENDAR
VERSION:2.0
PRODID:-//National Council of Churches in Australia - ECPv6.11.2//NONSGML v1.0//EN
CALSCALE:GREGORIAN
METHOD:PUBLISH
X-WR-CALNAME:National Council of Churches in Australia
X-ORIGINAL-URL:https://www.ncca.org.au
X-WR-CALDESC:Events for National Council of Churches in Australia
REFRESH-INTERVAL;VALUE=DURATION:PT1H
X-Robots-Tag:noindex
X-PUBLISHED-TTL:PT1H
BEGIN:VTIMEZONE
TZID:Australia/Sydney
BEGIN:STANDARD
TZOFFSETFROM:+1100
TZOFFSETTO:+1000
TZNAME:AEST
DTSTART:20260404T160000
END:STANDARD
BEGIN:DAYLIGHT
TZOFFSETFROM:+1000
TZOFFSETTO:+1100
TZNAME:AEDT
DTSTART:20261003T160000
END:DAYLIGHT
BEGIN:STANDARD
TZOFFSETFROM:+1100
TZOFFSETTO:+1000
TZNAME:AEST
DTSTART:20270403T160000
END:STANDARD
BEGIN:DAYLIGHT
TZOFFSETFROM:+1000
TZOFFSETTO:+1100
TZNAME:AEDT
DTSTART:20271002T160000
END:DAYLIGHT
BEGIN:STANDARD
TZOFFSETFROM:+1100
TZOFFSETTO:+1000
TZNAME:AEST
DTSTART:20280401T160000
END:STANDARD
BEGIN:DAYLIGHT
TZOFFSETFROM:+1000
TZOFFSETTO:+1100
TZNAME:AEDT
DTSTART:20280930T160000
END:DAYLIGHT
BEGIN:STANDARD
TZOFFSETFROM:+1100
TZOFFSETTO:+1000
TZNAME:AEST
DTSTART:20290331T160000
END:STANDARD
BEGIN:DAYLIGHT
TZOFFSETFROM:+1000
TZOFFSETTO:+1100
TZNAME:AEDT
DTSTART:20291006T160000
END:DAYLIGHT
END:VTIMEZONE
BEGIN:VEVENT
DTSTART;VALUE=DATE:20260819
DTEND;VALUE=DATE:20260820
DTSTAMP:20260421T183635
CREATED:20250228T002046Z
LAST-MODIFIED:20250228T002046Z
UID:10000341-1787097600-1787183999@www.ncca.org.au
SUMMARY:World Humanitarian Day
DESCRIPTION:
URL:https://www.ncca.org.au/event/world-humanitarian-day-2/2026-08-19/
CATEGORIES:UN International observance
ATTACH;FMTTYPE=:
END:VEVENT
BEGIN:VEVENT
DTSTART;VALUE=DATE:20270819
DTEND;VALUE=DATE:20270820
DTSTAMP:20260421T183635
CREATED:20250228T002046Z
LAST-MODIFIED:20250228T002046Z
UID:10000342-1818633600-1818719999@www.ncca.org.au
SUMMARY:World Humanitarian Day
DESCRIPTION:
URL:https://www.ncca.org.au/event/world-humanitarian-day-2/2027-08-19/
CATEGORIES:UN International observance
ATTACH;FMTTYPE=:
END:VEVENT
BEGIN:VEVENT
DTSTART;VALUE=DATE:20280819
DTEND;VALUE=DATE:20280820
DTSTAMP:20260421T183635
CREATED:20250228T002046Z
LAST-MODIFIED:20250228T002046Z
UID:10000343-1850256000-1850342399@www.ncca.org.au
SUMMARY:World Humanitarian Day
DESCRIPTION:
URL:https://www.ncca.org.au/event/world-humanitarian-day-2/2028-08-19/
CATEGORIES:UN International observance
ATTACH;FMTTYPE=:
END:VEVENT
BEGIN:VEVENT
DTSTART;VALUE=DATE:20290819
DTEND;VALUE=DATE:20290820
DTSTAMP:20260421T183635
CREATED:20250228T002046Z
LAST-MODIFIED:20250228T002046Z
UID:10000344-1881792000-1881878399@www.ncca.org.au
SUMMARY:World Humanitarian Day
DESCRIPTION:
URL:https://www.ncca.org.au/event/world-humanitarian-day-2/2029-08-19/
CATEGORIES:UN International observance
ATTACH;FMTTYPE=:
END:VEVENT
END:VCALENDAR