BEGIN:VCALENDAR
VERSION:2.0
PRODID:-//National Council of Churches in Australia - ECPv6.11.2//NONSGML v1.0//EN
CALSCALE:GREGORIAN
METHOD:PUBLISH
X-WR-CALNAME:National Council of Churches in Australia
X-ORIGINAL-URL:https://www.ncca.org.au
X-WR-CALDESC:Events for National Council of Churches in Australia
REFRESH-INTERVAL;VALUE=DURATION:PT1H
X-Robots-Tag:noindex
X-PUBLISHED-TTL:PT1H
BEGIN:VTIMEZONE
TZID:Australia/Sydney
BEGIN:STANDARD
TZOFFSETFROM:+1100
TZOFFSETTO:+1000
TZNAME:AEST
DTSTART:20260404T160000
END:STANDARD
BEGIN:DAYLIGHT
TZOFFSETFROM:+1000
TZOFFSETTO:+1100
TZNAME:AEDT
DTSTART:20261003T160000
END:DAYLIGHT
BEGIN:STANDARD
TZOFFSETFROM:+1100
TZOFFSETTO:+1000
TZNAME:AEST
DTSTART:20270403T160000
END:STANDARD
BEGIN:DAYLIGHT
TZOFFSETFROM:+1000
TZOFFSETTO:+1100
TZNAME:AEDT
DTSTART:20271002T160000
END:DAYLIGHT
BEGIN:STANDARD
TZOFFSETFROM:+1100
TZOFFSETTO:+1000
TZNAME:AEST
DTSTART:20280401T160000
END:STANDARD
BEGIN:DAYLIGHT
TZOFFSETFROM:+1000
TZOFFSETTO:+1100
TZNAME:AEDT
DTSTART:20280930T160000
END:DAYLIGHT
BEGIN:STANDARD
TZOFFSETFROM:+1100
TZOFFSETTO:+1000
TZNAME:AEST
DTSTART:20290331T160000
END:STANDARD
BEGIN:DAYLIGHT
TZOFFSETFROM:+1000
TZOFFSETTO:+1100
TZNAME:AEDT
DTSTART:20291006T160000
END:DAYLIGHT
END:VTIMEZONE
BEGIN:VEVENT
DTSTART;VALUE=DATE:20260626
DTEND;VALUE=DATE:20260627
DTSTAMP:20260421T195548
CREATED:20250227T021618Z
LAST-MODIFIED:20250227T021618Z
UID:10000164-1782432000-1782518399@www.ncca.org.au
SUMMARY:International Day in Support of Victims of Torture
DESCRIPTION:
URL:https://www.ncca.org.au/event/international-day-in-support-of-victims-of-torture/2026-06-26/
CATEGORIES:UN International observance
ATTACH;FMTTYPE=:
END:VEVENT
BEGIN:VEVENT
DTSTART;VALUE=DATE:20270626
DTEND;VALUE=DATE:20270627
DTSTAMP:20260421T195548
CREATED:20250227T021618Z
LAST-MODIFIED:20250227T021618Z
UID:10000165-1813968000-1814054399@www.ncca.org.au
SUMMARY:International Day in Support of Victims of Torture
DESCRIPTION:
URL:https://www.ncca.org.au/event/international-day-in-support-of-victims-of-torture/2027-06-26/
CATEGORIES:UN International observance
ATTACH;FMTTYPE=:
END:VEVENT
BEGIN:VEVENT
DTSTART;VALUE=DATE:20280626
DTEND;VALUE=DATE:20280627
DTSTAMP:20260421T195548
CREATED:20250227T021618Z
LAST-MODIFIED:20250227T021618Z
UID:10000166-1845590400-1845676799@www.ncca.org.au
SUMMARY:International Day in Support of Victims of Torture
DESCRIPTION:
URL:https://www.ncca.org.au/event/international-day-in-support-of-victims-of-torture/2028-06-26/
CATEGORIES:UN International observance
ATTACH;FMTTYPE=:
END:VEVENT
BEGIN:VEVENT
DTSTART;VALUE=DATE:20290626
DTEND;VALUE=DATE:20290627
DTSTAMP:20260421T195548
CREATED:20250227T021618Z
LAST-MODIFIED:20250227T021618Z
UID:10000167-1877126400-1877212799@www.ncca.org.au
SUMMARY:International Day in Support of Victims of Torture
DESCRIPTION:
URL:https://www.ncca.org.au/event/international-day-in-support-of-victims-of-torture/2029-06-26/
CATEGORIES:UN International observance
ATTACH;FMTTYPE=:
END:VEVENT
END:VCALENDAR