BEGIN:VCALENDAR
VERSION:2.0
PRODID:-//National Council of Churches in Australia - ECPv6.11.2//NONSGML v1.0//EN
CALSCALE:GREGORIAN
METHOD:PUBLISH
X-WR-CALNAME:National Council of Churches in Australia
X-ORIGINAL-URL:https://www.ncca.org.au
X-WR-CALDESC:Events for National Council of Churches in Australia
REFRESH-INTERVAL;VALUE=DURATION:PT1H
X-Robots-Tag:noindex
X-PUBLISHED-TTL:PT1H
BEGIN:VTIMEZONE
TZID:Australia/Sydney
BEGIN:STANDARD
TZOFFSETFROM:+1100
TZOFFSETTO:+1000
TZNAME:AEST
DTSTART:20260404T160000
END:STANDARD
BEGIN:DAYLIGHT
TZOFFSETFROM:+1000
TZOFFSETTO:+1100
TZNAME:AEDT
DTSTART:20261003T160000
END:DAYLIGHT
BEGIN:STANDARD
TZOFFSETFROM:+1100
TZOFFSETTO:+1000
TZNAME:AEST
DTSTART:20270403T160000
END:STANDARD
BEGIN:DAYLIGHT
TZOFFSETFROM:+1000
TZOFFSETTO:+1100
TZNAME:AEDT
DTSTART:20271002T160000
END:DAYLIGHT
BEGIN:STANDARD
TZOFFSETFROM:+1100
TZOFFSETTO:+1000
TZNAME:AEST
DTSTART:20280401T160000
END:STANDARD
BEGIN:DAYLIGHT
TZOFFSETFROM:+1000
TZOFFSETTO:+1100
TZNAME:AEDT
DTSTART:20280930T160000
END:DAYLIGHT
BEGIN:STANDARD
TZOFFSETFROM:+1100
TZOFFSETTO:+1000
TZNAME:AEST
DTSTART:20290331T160000
END:STANDARD
BEGIN:DAYLIGHT
TZOFFSETFROM:+1000
TZOFFSETTO:+1100
TZNAME:AEDT
DTSTART:20291006T160000
END:DAYLIGHT
END:VTIMEZONE
BEGIN:VEVENT
DTSTART;VALUE=DATE:20260607
DTEND;VALUE=DATE:20260608
DTSTAMP:20260420T144934
CREATED:20250227T020714Z
LAST-MODIFIED:20250227T020714Z
UID:10000137-1780790400-1780876799@www.ncca.org.au
SUMMARY:World Food Safety Day
DESCRIPTION:
URL:https://www.ncca.org.au/event/world-food-safety-day/2026-06-07/
CATEGORIES:UN International observance
ATTACH;FMTTYPE=:
END:VEVENT
BEGIN:VEVENT
DTSTART;VALUE=DATE:20270607
DTEND;VALUE=DATE:20270608
DTSTAMP:20260420T144934
CREATED:20250227T020714Z
LAST-MODIFIED:20250227T020714Z
UID:10000138-1812326400-1812412799@www.ncca.org.au
SUMMARY:World Food Safety Day
DESCRIPTION:
URL:https://www.ncca.org.au/event/world-food-safety-day/2027-06-07/
CATEGORIES:UN International observance
ATTACH;FMTTYPE=:
END:VEVENT
BEGIN:VEVENT
DTSTART;VALUE=DATE:20280607
DTEND;VALUE=DATE:20280608
DTSTAMP:20260420T144934
CREATED:20250227T020714Z
LAST-MODIFIED:20250227T020714Z
UID:10000139-1843948800-1844035199@www.ncca.org.au
SUMMARY:World Food Safety Day
DESCRIPTION:
URL:https://www.ncca.org.au/event/world-food-safety-day/2028-06-07/
CATEGORIES:UN International observance
ATTACH;FMTTYPE=:
END:VEVENT
BEGIN:VEVENT
DTSTART;VALUE=DATE:20290607
DTEND;VALUE=DATE:20290608
DTSTAMP:20260420T144934
CREATED:20250227T020714Z
LAST-MODIFIED:20250227T020714Z
UID:10000140-1875484800-1875571199@www.ncca.org.au
SUMMARY:World Food Safety Day
DESCRIPTION:
URL:https://www.ncca.org.au/event/world-food-safety-day/2029-06-07/
CATEGORIES:UN International observance
ATTACH;FMTTYPE=:
END:VEVENT
END:VCALENDAR