BEGIN:VCALENDAR
VERSION:2.0
PRODID:-//National Council of Churches in Australia - ECPv6.11.2//NONSGML v1.0//EN
CALSCALE:GREGORIAN
METHOD:PUBLISH
X-WR-CALNAME:National Council of Churches in Australia
X-ORIGINAL-URL:https://www.ncca.org.au
X-WR-CALDESC:Events for National Council of Churches in Australia
REFRESH-INTERVAL;VALUE=DURATION:PT1H
X-Robots-Tag:noindex
X-PUBLISHED-TTL:PT1H
BEGIN:VTIMEZONE
TZID:Australia/Sydney
BEGIN:STANDARD
TZOFFSETFROM:+1100
TZOFFSETTO:+1000
TZNAME:AEST
DTSTART:20260404T160000
END:STANDARD
BEGIN:DAYLIGHT
TZOFFSETFROM:+1000
TZOFFSETTO:+1100
TZNAME:AEDT
DTSTART:20261003T160000
END:DAYLIGHT
END:VTIMEZONE
BEGIN:VEVENT
DTSTART;VALUE=DATE:20261201
DTEND;VALUE=DATE:20261202
DTSTAMP:20260421T015653
CREATED:20250228T015032Z
LAST-MODIFIED:20250228T015032Z
UID:10000481-1796083200-1796169599@www.ncca.org.au
SUMMARY:World AIDS Day
DESCRIPTION:
URL:https://www.ncca.org.au/event/world-aids-day/2026-12-01/
CATEGORIES:UN International observance
ATTACH;FMTTYPE=:
END:VEVENT
BEGIN:VEVENT
DTSTART;VALUE=DATE:20261202
DTEND;VALUE=DATE:20261203
DTSTAMP:20260421T015653
CREATED:20250228T015104Z
LAST-MODIFIED:20250228T015104Z
UID:10000486-1796169600-1796255999@www.ncca.org.au
SUMMARY:International Day for the Abolition of Slavery
DESCRIPTION:
URL:https://www.ncca.org.au/event/international-day-for-the-abolition-of-slavery/2026-12-02/
CATEGORIES:UN International observance
ATTACH;FMTTYPE=:
END:VEVENT
BEGIN:VEVENT
DTSTART;VALUE=DATE:20261203
DTEND;VALUE=DATE:20261204
DTSTAMP:20260421T015653
CREATED:20250228T015136Z
LAST-MODIFIED:20250228T015136Z
UID:10000491-1796256000-1796342399@www.ncca.org.au
SUMMARY:International Day of People with Disabilities
DESCRIPTION:
URL:https://www.ncca.org.au/event/international-day-of-people-with-disabilities/2026-12-03/
CATEGORIES:UN International observance
ATTACH;FMTTYPE=:
END:VEVENT
BEGIN:VEVENT
DTSTART;VALUE=DATE:20261209
DTEND;VALUE=DATE:20261210
DTSTAMP:20260421T015653
CREATED:20250228T015518Z
LAST-MODIFIED:20250228T015518Z
UID:10000501-1796774400-1796860799@www.ncca.org.au
SUMMARY:International Anti-Corruption Day
DESCRIPTION:
URL:https://www.ncca.org.au/event/international-anti-corruption-day/2026-12-09/
CATEGORIES:UN International observance
ATTACH;FMTTYPE=:
END:VEVENT
BEGIN:VEVENT
DTSTART;VALUE=DATE:20261210
DTEND;VALUE=DATE:20261211
DTSTAMP:20260421T015653
CREATED:20250228T015558Z
LAST-MODIFIED:20250228T015558Z
UID:10000506-1796860800-1796947199@www.ncca.org.au
SUMMARY:Human Rights Day
DESCRIPTION:
URL:https://www.ncca.org.au/event/human-rights-day/2026-12-10/
CATEGORIES:UN International observance
ATTACH;FMTTYPE=:
END:VEVENT
BEGIN:VEVENT
DTSTART;VALUE=DATE:20261218
DTEND;VALUE=DATE:20261219
DTSTAMP:20260421T015653
CREATED:20250228T015745Z
LAST-MODIFIED:20250228T015745Z
UID:10000512-1797552000-1797638399@www.ncca.org.au
SUMMARY:International Migrant’s Day
DESCRIPTION:
URL:https://www.ncca.org.au/event/international-migrants-day/2026-12-18/
CATEGORIES:UN International observance
ATTACH;FMTTYPE=:
END:VEVENT
BEGIN:VEVENT
DTSTART;VALUE=DATE:20261220
DTEND;VALUE=DATE:20261221
DTSTAMP:20260421T015653
CREATED:20250228T015840Z
LAST-MODIFIED:20250228T015840Z
UID:10000517-1797724800-1797811199@www.ncca.org.au
SUMMARY:International Human Solidarity Day
DESCRIPTION:
URL:https://www.ncca.org.au/event/international-human-solidarity-day/2026-12-20/
CATEGORIES:UN International observance
ATTACH;FMTTYPE=:
END:VEVENT
END:VCALENDAR