BEGIN:VCALENDAR
VERSION:2.0
PRODID:-//National Council of Churches in Australia - ECPv6.11.2//NONSGML v1.0//EN
CALSCALE:GREGORIAN
METHOD:PUBLISH
X-ORIGINAL-URL:https://www.ncca.org.au
X-WR-CALDESC:Events for National Council of Churches in Australia
REFRESH-INTERVAL;VALUE=DURATION:PT1H
X-Robots-Tag:noindex
X-PUBLISHED-TTL:PT1H
BEGIN:VTIMEZONE
TZID:Australia/Sydney
BEGIN:STANDARD
TZOFFSETFROM:+1100
TZOFFSETTO:+1000
TZNAME:AEST
DTSTART:20260404T160000
END:STANDARD
BEGIN:DAYLIGHT
TZOFFSETFROM:+1000
TZOFFSETTO:+1100
TZNAME:AEDT
DTSTART:20261003T160000
END:DAYLIGHT
END:VTIMEZONE
BEGIN:VEVENT
DTSTART;VALUE=DATE:20261001
DTEND;VALUE=DATE:20261002
DTSTAMP:20260420T233604
CREATED:20250228T010107Z
LAST-MODIFIED:20250228T010107Z
UID:10000347-1790812800-1790899199@www.ncca.org.au
SUMMARY:International Day of Older Persons
DESCRIPTION:
URL:https://www.ncca.org.au/event/international-day-of-older-persons/2026-10-01/
CATEGORIES:UN International observance
ATTACH;FMTTYPE=:
END:VEVENT
BEGIN:VEVENT
DTSTART;VALUE=DATE:20261002
DTEND;VALUE=DATE:20261003
DTSTAMP:20260420T233604
CREATED:20250228T010308Z
LAST-MODIFIED:20250228T010308Z
UID:10000353-1790899200-1790985599@www.ncca.org.au
SUMMARY:International Day of Non-Violence
DESCRIPTION:
URL:https://www.ncca.org.au/event/international-day-of-non-violence/2026-10-02/
CATEGORIES:UN International observance
ATTACH;FMTTYPE=:
END:VEVENT
BEGIN:VEVENT
DTSTART;VALUE=DATE:20261006
DTEND;VALUE=DATE:20261007
DTSTAMP:20260420T233604
CREATED:20250228T010427Z
LAST-MODIFIED:20250228T010427Z
UID:10000363-1791244800-1791331199@www.ncca.org.au
SUMMARY:World Habitat Day
DESCRIPTION:
URL:https://www.ncca.org.au/event/world-habitat-day/2026-10-06/
CATEGORIES:UN International observance
ATTACH;FMTTYPE=:
END:VEVENT
BEGIN:VEVENT
DTSTART;VALUE=DATE:20261011
DTEND;VALUE=DATE:20261012
DTSTAMP:20260420T233604
CREATED:20250228T010618Z
LAST-MODIFIED:20250228T010618Z
UID:10000373-1791676800-1791763199@www.ncca.org.au
SUMMARY:International Day of the Girl
DESCRIPTION:
URL:https://www.ncca.org.au/event/international-day-of-the-girl/2026-10-11/
CATEGORIES:UN International observance
ATTACH;FMTTYPE=:
END:VEVENT
BEGIN:VEVENT
DTSTART;VALUE=DATE:20261013
DTEND;VALUE=DATE:20261014
DTSTAMP:20260420T233604
CREATED:20250228T010852Z
LAST-MODIFIED:20250228T010852Z
UID:10000385-1791849600-1791935999@www.ncca.org.au
SUMMARY:International Day for Disaster Risk Reduction
DESCRIPTION:
URL:https://www.ncca.org.au/event/international-day-for-disaster-risk-reduction/2026-10-13/
CATEGORIES:UN International observance
ATTACH;FMTTYPE=:
END:VEVENT
BEGIN:VEVENT
DTSTART;VALUE=DATE:20261015
DTEND;VALUE=DATE:20261016
DTSTAMP:20260420T233604
CREATED:20250228T011108Z
LAST-MODIFIED:20250228T011108Z
UID:10000391-1792022400-1792108799@www.ncca.org.au
SUMMARY:International Day of Rural Women
DESCRIPTION:
URL:https://www.ncca.org.au/event/international-day-of-rural-women/2026-10-15/
CATEGORIES:UN International observance
ATTACH;FMTTYPE=:
END:VEVENT
BEGIN:VEVENT
DTSTART;VALUE=DATE:20261016
DTEND;VALUE=DATE:20261017
DTSTAMP:20260420T233604
CREATED:20250228T011410Z
LAST-MODIFIED:20250228T011410Z
UID:10000401-1792108800-1792195199@www.ncca.org.au
SUMMARY:World Food Day [FAO]
DESCRIPTION:Food and Agriculture Organisation of the United Nations
URL:https://www.ncca.org.au/event/world-food-day-fao/2026-10-16/
CATEGORIES:UN International observance
ATTACH;FMTTYPE=:
END:VEVENT
BEGIN:VEVENT
DTSTART;VALUE=DATE:20261017
DTEND;VALUE=DATE:20261018
DTSTAMP:20260420T233604
CREATED:20250228T011451Z
LAST-MODIFIED:20250228T011451Z
UID:10000406-1792195200-1792281599@www.ncca.org.au
SUMMARY:International Day for the Eradication of Poverty
DESCRIPTION:
URL:https://www.ncca.org.au/event/international-day-for-the-eradication-of-poverty/2026-10-17/
CATEGORIES:UN International observance
ATTACH;FMTTYPE=:
END:VEVENT
END:VCALENDAR