BEGIN:VCALENDAR
VERSION:2.0
PRODID:-//National Council of Churches in Australia - ECPv6.11.2//NONSGML v1.0//EN
CALSCALE:GREGORIAN
METHOD:PUBLISH
X-WR-CALNAME:National Council of Churches in Australia
X-ORIGINAL-URL:https://www.ncca.org.au
X-WR-CALDESC:Events for National Council of Churches in Australia
REFRESH-INTERVAL;VALUE=DURATION:PT1H
X-Robots-Tag:noindex
X-PUBLISHED-TTL:PT1H
BEGIN:VTIMEZONE
TZID:Australia/Sydney
BEGIN:STANDARD
TZOFFSETFROM:+1100
TZOFFSETTO:+1000
TZNAME:AEST
DTSTART:20250405T160000
END:STANDARD
BEGIN:DAYLIGHT
TZOFFSETFROM:+1000
TZOFFSETTO:+1100
TZNAME:AEDT
DTSTART:20251004T160000
END:DAYLIGHT
END:VTIMEZONE
BEGIN:VEVENT
DTSTART;VALUE=DATE:20251106
DTEND;VALUE=DATE:20251107
DTSTAMP:20260420T215720
CREATED:20250228T013115Z
LAST-MODIFIED:20250228T013115Z
UID:10000421-1762387200-1762473599@www.ncca.org.au
SUMMARY:International Day for Preventing the Exploitation of the Environment in War and Armed Conflict
DESCRIPTION:
URL:https://www.ncca.org.au/event/international-day-for-preventing-the-exploitation-of-the-environment-in-war-and-armed-conflict/2025-11-06/
CATEGORIES:UN International observance
ATTACH;FMTTYPE=:
END:VEVENT
BEGIN:VEVENT
DTSTART;VALUE=DATE:20251110
DTEND;VALUE=DATE:20251111
DTSTAMP:20260420T215720
CREATED:20250228T013200Z
LAST-MODIFIED:20250228T013200Z
UID:10000426-1762732800-1762819199@www.ncca.org.au
SUMMARY:World Science Day for Peace and Development
DESCRIPTION:
URL:https://www.ncca.org.au/event/world-science-day-for-peace-and-development/2025-11-10/
CATEGORIES:UN International observance
ATTACH;FMTTYPE=:
END:VEVENT
BEGIN:VEVENT
DTSTART;VALUE=DATE:20251116
DTEND;VALUE=DATE:20251117
DTSTAMP:20260420T215720
CREATED:20250228T013444Z
LAST-MODIFIED:20250228T013444Z
UID:10000437-1763251200-1763337599@www.ncca.org.au
SUMMARY:International Day for Tolerance [UNESCO]
DESCRIPTION:
URL:https://www.ncca.org.au/event/international-day-for-tolerance-unesco/2025-11-16/
CATEGORIES:UN International observance
ATTACH;FMTTYPE=:
END:VEVENT
BEGIN:VEVENT
DTSTART;VALUE=DATE:20251118
DTEND;VALUE=DATE:20251119
DTSTAMP:20260420T215720
CREATED:20250228T013527Z
LAST-MODIFIED:20250228T013527Z
UID:10000442-1763424000-1763510399@www.ncca.org.au
SUMMARY:World Day for the Prevention of and Healing from Child Sexual Exploitation\, Abuse and Violence
DESCRIPTION:
URL:https://www.ncca.org.au/event/world-day-for-the-prevention-of-and-healing-from-child-sexual-exploitation-abuse-and-violence/2025-11-18/
CATEGORIES:UN International observance
ATTACH;FMTTYPE=:
END:VEVENT
BEGIN:VEVENT
DTSTART;VALUE=DATE:20251119
DTEND;VALUE=DATE:20251120
DTSTAMP:20260420T215720
CREATED:20250228T013556Z
LAST-MODIFIED:20250228T013556Z
UID:10000447-1763510400-1763596799@www.ncca.org.au
SUMMARY:World Toilet Day
DESCRIPTION:
URL:https://www.ncca.org.au/event/world-toilet-day/2025-11-19/
CATEGORIES:UN International observance
ATTACH;FMTTYPE=:
END:VEVENT
BEGIN:VEVENT
DTSTART;VALUE=DATE:20251120
DTEND;VALUE=DATE:20251121
DTSTAMP:20260420T215720
CREATED:20250228T013635Z
LAST-MODIFIED:20250228T013635Z
UID:10000452-1763596800-1763683199@www.ncca.org.au
SUMMARY:World Children’s Day
DESCRIPTION:
URL:https://www.ncca.org.au/event/world-childrens-day/2025-11-20/
CATEGORIES:UN International observance
ATTACH;FMTTYPE=:
END:VEVENT
BEGIN:VEVENT
DTSTART;VALUE=DATE:20251125
DTEND;VALUE=DATE:20251126
DTSTAMP:20260420T215720
CREATED:20250228T013707Z
LAST-MODIFIED:20250228T013707Z
UID:10000457-1764028800-1764115199@www.ncca.org.au
SUMMARY:International Day for the Elimination of Violence Against Women
DESCRIPTION:
URL:https://www.ncca.org.au/event/international-day-for-the-elimination-of-violence-against-women/2025-11-25/
CATEGORIES:UN International observance
ATTACH;FMTTYPE=:
END:VEVENT
BEGIN:VEVENT
DTSTART;VALUE=DATE:20251129
DTEND;VALUE=DATE:20251130
DTSTAMP:20260420T215720
CREATED:20250228T014115Z
LAST-MODIFIED:20250228T014115Z
UID:10000469-1764374400-1764460799@www.ncca.org.au
SUMMARY:International Day of Solidarity with the Palestinian People
DESCRIPTION:
URL:https://www.ncca.org.au/event/international-day-of-solidarity-with-the-palestinian-people/2025-11-29/
CATEGORIES:UN International observance
ATTACH;FMTTYPE=:
END:VEVENT
BEGIN:VEVENT
DTSTART;VALUE=DATE:20251130
DTEND;VALUE=DATE:20251201
DTSTAMP:20260420T215720
CREATED:20250228T014225Z
LAST-MODIFIED:20250228T014225Z
UID:10000474-1764460800-1764547199@www.ncca.org.au
SUMMARY:Day of Remembrance for all Victims of Chemical Warfare
DESCRIPTION:
URL:https://www.ncca.org.au/event/day-of-remembrance-for-all-victims-of-chemical-warfare/2025-11-30/
CATEGORIES:UN International observance
ATTACH;FMTTYPE=:
END:VEVENT
END:VCALENDAR