BEGIN:VCALENDAR
VERSION:2.0
PRODID:-//National Council of Churches in Australia - ECPv6.11.2//NONSGML v1.0//EN
CALSCALE:GREGORIAN
METHOD:PUBLISH
X-WR-CALNAME:National Council of Churches in Australia
X-ORIGINAL-URL:https://www.ncca.org.au
X-WR-CALDESC:Events for National Council of Churches in Australia
REFRESH-INTERVAL;VALUE=DURATION:PT1H
X-Robots-Tag:noindex
X-PUBLISHED-TTL:PT1H
BEGIN:VTIMEZONE
TZID:Australia/Sydney
BEGIN:STANDARD
TZOFFSETFROM:+1100
TZOFFSETTO:+1000
TZNAME:AEST
DTSTART:20250405T160000
END:STANDARD
BEGIN:DAYLIGHT
TZOFFSETFROM:+1000
TZOFFSETTO:+1100
TZNAME:AEDT
DTSTART:20251004T160000
END:DAYLIGHT
END:VTIMEZONE
BEGIN:VEVENT
DTSTART;VALUE=DATE:20250711
DTEND;VALUE=DATE:20250712
DTSTAMP:20260421T030713
CREATED:20250227T043101Z
LAST-MODIFIED:20250227T044216Z
UID:10000178-1752192000-1752278399@www.ncca.org.au
SUMMARY:World Population Day
DESCRIPTION:
URL:https://www.ncca.org.au/event/world-population-day/2025-07-11/
CATEGORIES:UN International observance
ATTACH;FMTTYPE=:
END:VEVENT
BEGIN:VEVENT
DTSTART;VALUE=DATE:20250718
DTEND;VALUE=DATE:20250719
DTSTAMP:20260421T030713
CREATED:20250227T043737Z
LAST-MODIFIED:20250227T043737Z
UID:10000194-1752796800-1752883199@www.ncca.org.au
SUMMARY:Nelson Mandela International Day
DESCRIPTION:
URL:https://www.ncca.org.au/event/nelson-mandela-international-day/2025-07-18/
CATEGORIES:UN International observance
ATTACH;FMTTYPE=:
END:VEVENT
BEGIN:VEVENT
DTSTART;VALUE=DATE:20250730
DTEND;VALUE=DATE:20250731
DTSTAMP:20260421T030713
CREATED:20250227T043437Z
LAST-MODIFIED:20250227T043437Z
UID:10000189-1753833600-1753919999@www.ncca.org.au
SUMMARY:World Day against Trafficking in Persons
DESCRIPTION:
URL:https://www.ncca.org.au/event/world-day-against-trafficking-in-persons-2/2025-07-30/
CATEGORIES:UN International observance
ATTACH;FMTTYPE=:
END:VEVENT
END:VCALENDAR