BEGIN:VCALENDAR
VERSION:2.0
PRODID:-//National Council of Churches in Australia - ECPv6.11.2//NONSGML v1.0//EN
CALSCALE:GREGORIAN
METHOD:PUBLISH
X-WR-CALNAME:National Council of Churches in Australia
X-ORIGINAL-URL:https://www.ncca.org.au
X-WR-CALDESC:Events for National Council of Churches in Australia
REFRESH-INTERVAL;VALUE=DURATION:PT1H
X-Robots-Tag:noindex
X-PUBLISHED-TTL:PT1H
BEGIN:VTIMEZONE
TZID:Australia/Sydney
BEGIN:STANDARD
TZOFFSETFROM:+1100
TZOFFSETTO:+1000
TZNAME:AEST
DTSTART:20250405T160000
END:STANDARD
BEGIN:DAYLIGHT
TZOFFSETFROM:+1000
TZOFFSETTO:+1100
TZNAME:AEDT
DTSTART:20251004T160000
END:DAYLIGHT
END:VTIMEZONE
BEGIN:VEVENT
DTSTART;TZID=Australia/Sydney:20250412T193000
DTEND;TZID=Australia/Sydney:20250420T190000
DTSTAMP:20260421T224153
CREATED:20250226T231741Z
LAST-MODIFIED:20250226T231741Z
UID:10000091-1744486200-1745175600@www.ncca.org.au
SUMMARY:Pesach (Passover) | Judaism
DESCRIPTION:Pesach begins at sundown on Saturday\, April 12\, 2025\, and ends the evening of Sunday\, April 20\, 2025.
URL:https://www.ncca.org.au/event/pesach-passover-judaism/
CATEGORIES:Faith other than Christian
ATTACH;FMTTYPE=:
END:VEVENT
BEGIN:VEVENT
DTSTART;VALUE=DATE:20250413
DTEND;VALUE=DATE:20250414
DTSTAMP:20260421T224153
CREATED:20250226T232140Z
LAST-MODIFIED:20250226T232140Z
UID:10000092-1744502400-1744588799@www.ncca.org.au
SUMMARY:Theravada New Year | Buddhism
DESCRIPTION:
URL:https://www.ncca.org.au/event/theravada-new-year-buddhism/
CATEGORIES:Faith other than Christian
ATTACH;FMTTYPE=:
END:VEVENT
BEGIN:VEVENT
DTSTART;VALUE=DATE:20250420
DTEND;VALUE=DATE:20250421
DTSTAMP:20260421T224153
CREATED:20250227T000549Z
LAST-MODIFIED:20250227T000549Z
UID:10000093-1745107200-1745193599@www.ncca.org.au
SUMMARY:Ridvan | Baha'i
DESCRIPTION:
URL:https://www.ncca.org.au/event/ridvan-bahai/
CATEGORIES:Faith other than Christian
ATTACH;FMTTYPE=:
END:VEVENT
BEGIN:VEVENT
DTSTART;VALUE=DATE:20250424
DTEND;VALUE=DATE:20250425
DTSTAMP:20260421T224153
CREATED:20250227T000640Z
LAST-MODIFIED:20250227T000640Z
UID:10000094-1745452800-1745539199@www.ncca.org.au
SUMMARY:Yom HaShoah | Judaism
DESCRIPTION:
URL:https://www.ncca.org.au/event/yom-hashoah-judaism/
CATEGORIES:Faith other than Christian
ATTACH;FMTTYPE=:
END:VEVENT
END:VCALENDAR