BEGIN:VCALENDAR
VERSION:2.0
PRODID:-//National Council of Churches in Australia - ECPv6.11.2//NONSGML v1.0//EN
CALSCALE:GREGORIAN
METHOD:PUBLISH
X-ORIGINAL-URL:https://www.ncca.org.au
X-WR-CALDESC:Events for National Council of Churches in Australia
REFRESH-INTERVAL;VALUE=DURATION:PT1H
X-Robots-Tag:noindex
X-PUBLISHED-TTL:PT1H
BEGIN:VTIMEZONE
TZID:Australia/Sydney
BEGIN:STANDARD
TZOFFSETFROM:+1100
TZOFFSETTO:+1000
TZNAME:AEST
DTSTART:20250405T160000
END:STANDARD
BEGIN:DAYLIGHT
TZOFFSETFROM:+1000
TZOFFSETTO:+1100
TZNAME:AEDT
DTSTART:20251004T160000
END:DAYLIGHT
END:VTIMEZONE
BEGIN:VEVENT
DTSTART;VALUE=DATE:20250312
DTEND;VALUE=DATE:20250313
DTSTAMP:20260421T235716
CREATED:20250227T001857Z
LAST-MODIFIED:20250227T001857Z
UID:10000104-1741737600-1741823999@www.ncca.org.au
SUMMARY:Vesak / Buddha Day | Buddhism
DESCRIPTION:
URL:https://www.ncca.org.au/event/vesak-buddha-day-buddhism/
CATEGORIES:Faith other than Christian
ATTACH;FMTTYPE=:
END:VEVENT
BEGIN:VEVENT
DTSTART;TZID=Australia/Sydney:20250313T190000
DTEND;TZID=Australia/Sydney:20250314T235900
DTSTAMP:20260421T235716
CREATED:20250214T050903Z
LAST-MODIFIED:20250226T235620Z
UID:10000042-1741892400-1741996740@www.ncca.org.au
SUMMARY:Purim | Judaism
DESCRIPTION:
URL:https://www.ncca.org.au/event/purim-judaism/
CATEGORIES:Faith other than Christian
ATTACH;FMTTYPE=:
END:VEVENT
BEGIN:VEVENT
DTSTART;VALUE=DATE:20250314
DTEND;VALUE=DATE:20250315
DTSTAMP:20260421T235716
CREATED:20250214T052212Z
LAST-MODIFIED:20250226T235611Z
UID:10000046-1741910400-1741996799@www.ncca.org.au
SUMMARY:Holi | Hinduism and Hola Mohalla | Sikhism
DESCRIPTION:
URL:https://www.ncca.org.au/event/holi-hinduism-and-hola-mohalla-sikhism/
CATEGORIES:Faith other than Christian
ATTACH;FMTTYPE=:
END:VEVENT
BEGIN:VEVENT
DTSTART;VALUE=DATE:20250320
DTEND;VALUE=DATE:20250321
DTSTAMP:20260421T235716
CREATED:20250214T052819Z
LAST-MODIFIED:20250226T235540Z
UID:10000059-1742428800-1742515199@www.ncca.org.au
SUMMARY:Naw Ruz | Baha'i
DESCRIPTION:
URL:https://www.ncca.org.au/event/naw-ruz-bahai/
CATEGORIES:Faith other than Christian
ATTACH;FMTTYPE=:
END:VEVENT
BEGIN:VEVENT
DTSTART;VALUE=DATE:20250327
DTEND;VALUE=DATE:20250328
DTSTAMP:20260421T235716
CREATED:20250214T053300Z
LAST-MODIFIED:20250226T232522Z
UID:10000073-1743033600-1743119999@www.ncca.org.au
SUMMARY:Lailat al Qadr | Islam
DESCRIPTION:
URL:https://www.ncca.org.au/event/lailat-al-qadr-islam/
CATEGORIES:Faith other than Christian
ATTACH;FMTTYPE=:
END:VEVENT
BEGIN:VEVENT
DTSTART;TZID=Australia/Sydney:20250330T200000
DTEND;TZID=Australia/Sydney:20250331T170000
DTSTAMP:20260421T235716
CREATED:20250214T053400Z
LAST-MODIFIED:20250226T232443Z
UID:10000074-1743364800-1743440400@www.ncca.org.au
SUMMARY:Eid al Fitr | Islam
DESCRIPTION:
URL:https://www.ncca.org.au/event/eid-al-fitr-islam/
CATEGORIES:Faith other than Christian
ATTACH;FMTTYPE=:
END:VEVENT
END:VCALENDAR