BEGIN:VCALENDAR
VERSION:2.0
PRODID:-//National Council of Churches in Australia - ECPv6.11.2//NONSGML v1.0//EN
CALSCALE:GREGORIAN
METHOD:PUBLISH
X-ORIGINAL-URL:https://www.ncca.org.au
X-WR-CALDESC:Events for National Council of Churches in Australia
REFRESH-INTERVAL;VALUE=DURATION:PT1H
X-Robots-Tag:noindex
X-PUBLISHED-TTL:PT1H
BEGIN:VTIMEZONE
TZID:Australia/Sydney
BEGIN:STANDARD
TZOFFSETFROM:+1100
TZOFFSETTO:+1000
TZNAME:AEST
DTSTART:20270403T160000
END:STANDARD
BEGIN:DAYLIGHT
TZOFFSETFROM:+1000
TZOFFSETTO:+1100
TZNAME:AEDT
DTSTART:20271002T160000
END:DAYLIGHT
END:VTIMEZONE
BEGIN:VEVENT
DTSTART;TZID=Australia/Sydney:20270527T000000
DTEND;TZID=Australia/Sydney:20270603T233000
DTSTAMP:20260421T041749
CREATED:20250227T003113Z
LAST-MODIFIED:20250227T003113Z
UID:10000112-1811376000-1812065400@www.ncca.org.au
SUMMARY:National Reconciliation Week
DESCRIPTION:
URL:https://www.ncca.org.au/event/national-reconciliation-week/2027-05-27/
CATEGORIES:First Nations significant
ATTACH;FMTTYPE=:
END:VEVENT
END:VCALENDAR