BEGIN:VCALENDAR
VERSION:2.0
PRODID:-//National Council of Churches in Australia - ECPv6.11.2//NONSGML v1.0//EN
CALSCALE:GREGORIAN
METHOD:PUBLISH
X-WR-CALNAME:National Council of Churches in Australia
X-ORIGINAL-URL:https://www.ncca.org.au
X-WR-CALDESC:Events for National Council of Churches in Australia
REFRESH-INTERVAL;VALUE=DURATION:PT1H
X-Robots-Tag:noindex
X-PUBLISHED-TTL:PT1H
BEGIN:VTIMEZONE
TZID:Australia/Sydney
BEGIN:STANDARD
TZOFFSETFROM:+1100
TZOFFSETTO:+1000
TZNAME:AEST
DTSTART:20260404T160000
END:STANDARD
BEGIN:DAYLIGHT
TZOFFSETFROM:+1000
TZOFFSETTO:+1100
TZNAME:AEDT
DTSTART:20261003T160000
END:DAYLIGHT
END:VTIMEZONE
BEGIN:VEVENT
DTSTART;VALUE=DATE:20260902
DTEND;VALUE=DATE:20260903
DTSTAMP:20260421T015138
CREATED:20250228T001818Z
LAST-MODIFIED:20250228T001818Z
UID:10000336-1788307200-1788393599@www.ncca.org.au
SUMMARY:1991: Council for Aboriginal Reconciliation Act passed by Parliament
DESCRIPTION:
URL:https://www.ncca.org.au/event/1991-council-for-aboriginal-reconciliation-act-passed-by-parliament-2/2026-09-02/
CATEGORIES:First Nations significant
ATTACH;FMTTYPE=:
END:VEVENT
BEGIN:VEVENT
DTSTART;VALUE=DATE:20260904
DTEND;VALUE=DATE:20260905
DTSTAMP:20260421T015138
CREATED:20250227T234849Z
LAST-MODIFIED:20250227T234849Z
UID:10000282-1788480000-1788566399@www.ncca.org.au
SUMMARY:Indigenous Literacy Day
DESCRIPTION:
URL:https://www.ncca.org.au/event/indigenous-literacy-day/2026-09-04/
CATEGORIES:First Nations significant
ATTACH;FMTTYPE=:
END:VEVENT
END:VCALENDAR