BEGIN:VCALENDAR
VERSION:2.0
PRODID:-//National Council of Churches in Australia - ECPv6.11.2//NONSGML v1.0//EN
CALSCALE:GREGORIAN
METHOD:PUBLISH
X-WR-CALNAME:National Council of Churches in Australia
X-ORIGINAL-URL:https://www.ncca.org.au
X-WR-CALDESC:Events for National Council of Churches in Australia
REFRESH-INTERVAL;VALUE=DURATION:PT1H
X-Robots-Tag:noindex
X-PUBLISHED-TTL:PT1H
BEGIN:VTIMEZONE
TZID:Australia/Sydney
BEGIN:STANDARD
TZOFFSETFROM:+1100
TZOFFSETTO:+1000
TZNAME:AEST
DTSTART:20260404T160000
END:STANDARD
BEGIN:DAYLIGHT
TZOFFSETFROM:+1000
TZOFFSETTO:+1100
TZNAME:AEDT
DTSTART:20261003T160000
END:DAYLIGHT
END:VTIMEZONE
BEGIN:VEVENT
DTSTART;VALUE=DATE:20260804
DTEND;VALUE=DATE:20260805
DTSTAMP:20260421T002452
CREATED:20250227T044727Z
LAST-MODIFIED:20250227T044727Z
UID:10000206-1785801600-1785887999@www.ncca.org.au
SUMMARY:National Aboriginal and Torres Strait Islander Children’s Day
DESCRIPTION:
URL:https://www.ncca.org.au/event/national-aboriginal-and-torres-strait-islander-childrens-day/2026-08-04/
CATEGORIES:First Nations significant
ATTACH;FMTTYPE=:
END:VEVENT
END:VCALENDAR